BEGIN:VCALENDAR
VERSION:2.0
PRODID:-//ChamberMaster//Event Calendar 2.0//EN
METHOD:PUBLISH
X-PUBLISHED-TTL:P3D
REFRESH-INTERVAL:P3D
CALSCALE:GREGORIAN
BEGIN:VEVENT
DTSTART:20240730T133000Z
DTEND:20240730T163000Z
X-MICROSOFT-CDO-ALLDAYEVENT:FALSE
SUMMARY:flow + paddleboarding
DESCRIPTION:join us for an outdoor class by the lighthouse at The Nonantum Resort at 9:30A\, following class you'll get to enjoy paddle boards delivered to Nonantum and uninterrupted paddling until 12:30P in the calm waters of Kennebunkport.
X-ALT-DESC;FMTTYPE=text/html:join us for an outdoor class by the lighthouse at The Nonantum Resort at 9:30A\, following class you&rsquo\;ll get to enjoy paddle boards delivered to Nonantum and uninterrupted paddling until 12:30P in the calm waters of Kennebunkport.
LOCATION:The Nonantum 95 Ocean Ave\, Kennebunkport\, ME 04046
UID:e.3240.4505
SEQUENCE:3
DTSTAMP:20260420T205156Z
URL:http://wellschamberme.chambermaster.com/events/details/flow-paddleboarding-4505
END:VEVENT

END:VCALENDAR
